BEGIN:VCALENDAR
VERSION:2.0
PRODID:-//Middleton Township - ECPv6.8.1//NONSGML v1.0//EN
CALSCALE:GREGORIAN
METHOD:PUBLISH
X-WR-CALNAME:Middleton Township
X-ORIGINAL-URL:https://www.middletontownship.com
X-WR-CALDESC:Events for Middleton Township
REFRESH-INTERVAL;VALUE=DURATION:PT1H
X-Robots-Tag:noindex
X-PUBLISHED-TTL:PT1H
BEGIN:VTIMEZONE
TZID:America/Detroit
BEGIN:DAYLIGHT
TZOFFSETFROM:-0500
TZOFFSETTO:-0400
TZNAME:EDT
DTSTART:20280312T070000
END:DAYLIGHT
BEGIN:STANDARD
TZOFFSETFROM:-0400
TZOFFSETTO:-0500
TZNAME:EST
DTSTART:20281105T060000
END:STANDARD
BEGIN:DAYLIGHT
TZOFFSETFROM:-0500
TZOFFSETTO:-0400
TZNAME:EDT
DTSTART:20290311T070000
END:DAYLIGHT
BEGIN:STANDARD
TZOFFSETFROM:-0400
TZOFFSETTO:-0500
TZNAME:EST
DTSTART:20291104T060000
END:STANDARD
BEGIN:DAYLIGHT
TZOFFSETFROM:-0500
TZOFFSETTO:-0400
TZNAME:EDT
DTSTART:20300310T070000
END:DAYLIGHT
BEGIN:STANDARD
TZOFFSETFROM:-0400
TZOFFSETTO:-0500
TZNAME:EST
DTSTART:20301103T060000
END:STANDARD
END:VTIMEZONE
BEGIN:VEVENT
DTSTART;TZID=America/Detroit:20280117T190000
DTEND;TZID=America/Detroit:20280117T190000
DTSTAMP:20260423T170107
CREATED:20210622T163229Z
LAST-MODIFIED:20210622T164107Z
UID:10000290-1831748400-1831748400@www.middletontownship.com
SUMMARY:Fire Dept. Meeting
DESCRIPTION:
URL:https://www.middletontownship.com/event/fire-dept-meeting/2028-01-17/
LOCATION:Middleton Township Building\, 21745 N. Dixie Highway\, Bowling Green\, OH\, 43402\, United States
CATEGORIES:Community
END:VEVENT
BEGIN:VEVENT
DTSTART;TZID=America/Detroit:20280221T190000
DTEND;TZID=America/Detroit:20280221T190000
DTSTAMP:20260423T170107
CREATED:20210622T163229Z
LAST-MODIFIED:20210622T164107Z
UID:10000291-1834772400-1834772400@www.middletontownship.com
SUMMARY:Fire Dept. Meeting
DESCRIPTION:
URL:https://www.middletontownship.com/event/fire-dept-meeting/2028-02-21/
LOCATION:Middleton Township Building\, 21745 N. Dixie Highway\, Bowling Green\, OH\, 43402\, United States
CATEGORIES:Community
END:VEVENT
BEGIN:VEVENT
DTSTART;TZID=America/Detroit:20280320T190000
DTEND;TZID=America/Detroit:20280320T190000
DTSTAMP:20260423T170107
CREATED:20210622T163229Z
LAST-MODIFIED:20210622T164107Z
UID:10000292-1837191600-1837191600@www.middletontownship.com
SUMMARY:Fire Dept. Meeting
DESCRIPTION:
URL:https://www.middletontownship.com/event/fire-dept-meeting/2028-03-20/
LOCATION:Middleton Township Building\, 21745 N. Dixie Highway\, Bowling Green\, OH\, 43402\, United States
CATEGORIES:Community
END:VEVENT
BEGIN:VEVENT
DTSTART;TZID=America/Detroit:20280417T190000
DTEND;TZID=America/Detroit:20280417T190000
DTSTAMP:20260423T170107
CREATED:20210622T163229Z
LAST-MODIFIED:20210622T164107Z
UID:10000293-1839610800-1839610800@www.middletontownship.com
SUMMARY:Fire Dept. Meeting
DESCRIPTION:
URL:https://www.middletontownship.com/event/fire-dept-meeting/2028-04-17/
LOCATION:Middleton Township Building\, 21745 N. Dixie Highway\, Bowling Green\, OH\, 43402\, United States
CATEGORIES:Community
END:VEVENT
BEGIN:VEVENT
DTSTART;TZID=America/Detroit:20280515T190000
DTEND;TZID=America/Detroit:20280515T190000
DTSTAMP:20260423T170107
CREATED:20210622T163229Z
LAST-MODIFIED:20210622T164107Z
UID:10000294-1842030000-1842030000@www.middletontownship.com
SUMMARY:Fire Dept. Meeting
DESCRIPTION:
URL:https://www.middletontownship.com/event/fire-dept-meeting/2028-05-15/
LOCATION:Middleton Township Building\, 21745 N. Dixie Highway\, Bowling Green\, OH\, 43402\, United States
CATEGORIES:Community
END:VEVENT
BEGIN:VEVENT
DTSTART;TZID=America/Detroit:20280619T190000
DTEND;TZID=America/Detroit:20280619T190000
DTSTAMP:20260423T170107
CREATED:20210622T163229Z
LAST-MODIFIED:20210622T164107Z
UID:10000295-1845054000-1845054000@www.middletontownship.com
SUMMARY:Fire Dept. Meeting
DESCRIPTION:
URL:https://www.middletontownship.com/event/fire-dept-meeting/2028-06-19/
LOCATION:Middleton Township Building\, 21745 N. Dixie Highway\, Bowling Green\, OH\, 43402\, United States
CATEGORIES:Community
END:VEVENT
BEGIN:VEVENT
DTSTART;TZID=America/Detroit:20280717T190000
DTEND;TZID=America/Detroit:20280717T190000
DTSTAMP:20260423T170107
CREATED:20210622T163229Z
LAST-MODIFIED:20210622T164107Z
UID:10000296-1847473200-1847473200@www.middletontownship.com
SUMMARY:Fire Dept. Meeting
DESCRIPTION:
URL:https://www.middletontownship.com/event/fire-dept-meeting/2028-07-17/
LOCATION:Middleton Township Building\, 21745 N. Dixie Highway\, Bowling Green\, OH\, 43402\, United States
CATEGORIES:Community
END:VEVENT
BEGIN:VEVENT
DTSTART;TZID=America/Detroit:20280821T190000
DTEND;TZID=America/Detroit:20280821T190000
DTSTAMP:20260423T170107
CREATED:20210622T163229Z
LAST-MODIFIED:20210622T164107Z
UID:10000297-1850497200-1850497200@www.middletontownship.com
SUMMARY:Fire Dept. Meeting
DESCRIPTION:
URL:https://www.middletontownship.com/event/fire-dept-meeting/2028-08-21/
LOCATION:Middleton Township Building\, 21745 N. Dixie Highway\, Bowling Green\, OH\, 43402\, United States
CATEGORIES:Community
END:VEVENT
BEGIN:VEVENT
DTSTART;TZID=America/Detroit:20280918T190000
DTEND;TZID=America/Detroit:20280918T190000
DTSTAMP:20260423T170107
CREATED:20210622T163229Z
LAST-MODIFIED:20210622T164107Z
UID:10000298-1852916400-1852916400@www.middletontownship.com
SUMMARY:Fire Dept. Meeting
DESCRIPTION:
URL:https://www.middletontownship.com/event/fire-dept-meeting/2028-09-18/
LOCATION:Middleton Township Building\, 21745 N. Dixie Highway\, Bowling Green\, OH\, 43402\, United States
CATEGORIES:Community
END:VEVENT
BEGIN:VEVENT
DTSTART;TZID=America/Detroit:20281016T190000
DTEND;TZID=America/Detroit:20281016T190000
DTSTAMP:20260423T170107
CREATED:20210622T163229Z
LAST-MODIFIED:20210622T164107Z
UID:10000299-1855335600-1855335600@www.middletontownship.com
SUMMARY:Fire Dept. Meeting
DESCRIPTION:
URL:https://www.middletontownship.com/event/fire-dept-meeting/2028-10-16/
LOCATION:Middleton Township Building\, 21745 N. Dixie Highway\, Bowling Green\, OH\, 43402\, United States
CATEGORIES:Community
END:VEVENT
BEGIN:VEVENT
DTSTART;TZID=America/Detroit:20281120T190000
DTEND;TZID=America/Detroit:20281120T190000
DTSTAMP:20260423T170107
CREATED:20210622T163229Z
LAST-MODIFIED:20210622T164107Z
UID:10000300-1858359600-1858359600@www.middletontownship.com
SUMMARY:Fire Dept. Meeting
DESCRIPTION:
URL:https://www.middletontownship.com/event/fire-dept-meeting/2028-11-20/
LOCATION:Middleton Township Building\, 21745 N. Dixie Highway\, Bowling Green\, OH\, 43402\, United States
CATEGORIES:Community
END:VEVENT
BEGIN:VEVENT
DTSTART;TZID=America/Detroit:20281218T190000
DTEND;TZID=America/Detroit:20281218T190000
DTSTAMP:20260423T170107
CREATED:20210622T163229Z
LAST-MODIFIED:20210622T164107Z
UID:10000356-1860778800-1860778800@www.middletontownship.com
SUMMARY:Fire Dept. Meeting
DESCRIPTION:
URL:https://www.middletontownship.com/event/fire-dept-meeting/2028-12-18/
LOCATION:Middleton Township Building\, 21745 N. Dixie Highway\, Bowling Green\, OH\, 43402\, United States
CATEGORIES:Community
END:VEVENT
BEGIN:VEVENT
DTSTART;TZID=America/Detroit:20290115T190000
DTEND;TZID=America/Detroit:20290115T190000
DTSTAMP:20260423T170107
CREATED:20210622T163229Z
LAST-MODIFIED:20210622T164107Z
UID:10000357-1863198000-1863198000@www.middletontownship.com
SUMMARY:Fire Dept. Meeting
DESCRIPTION:
URL:https://www.middletontownship.com/event/fire-dept-meeting/2029-01-15/
LOCATION:Middleton Township Building\, 21745 N. Dixie Highway\, Bowling Green\, OH\, 43402\, United States
CATEGORIES:Community
END:VEVENT
BEGIN:VEVENT
DTSTART;TZID=America/Detroit:20290219T190000
DTEND;TZID=America/Detroit:20290219T190000
DTSTAMP:20260423T170107
CREATED:20210622T163229Z
LAST-MODIFIED:20210622T164107Z
UID:10000367-1866222000-1866222000@www.middletontownship.com
SUMMARY:Fire Dept. Meeting
DESCRIPTION:
URL:https://www.middletontownship.com/event/fire-dept-meeting/2029-02-19/
LOCATION:Middleton Township Building\, 21745 N. Dixie Highway\, Bowling Green\, OH\, 43402\, United States
CATEGORIES:Community
END:VEVENT
BEGIN:VEVENT
DTSTART;TZID=America/Detroit:20290319T190000
DTEND;TZID=America/Detroit:20290319T190000
DTSTAMP:20260423T170107
CREATED:20210622T163229Z
LAST-MODIFIED:20210622T164107Z
UID:10000368-1868641200-1868641200@www.middletontownship.com
SUMMARY:Fire Dept. Meeting
DESCRIPTION:
URL:https://www.middletontownship.com/event/fire-dept-meeting/2029-03-19/
LOCATION:Middleton Township Building\, 21745 N. Dixie Highway\, Bowling Green\, OH\, 43402\, United States
CATEGORIES:Community
END:VEVENT
BEGIN:VEVENT
DTSTART;TZID=America/Detroit:20290416T190000
DTEND;TZID=America/Detroit:20290416T190000
DTSTAMP:20260423T170107
CREATED:20210622T163229Z
LAST-MODIFIED:20210622T164107Z
UID:10000370-1871060400-1871060400@www.middletontownship.com
SUMMARY:Fire Dept. Meeting
DESCRIPTION:
URL:https://www.middletontownship.com/event/fire-dept-meeting/2029-04-16/
LOCATION:Middleton Township Building\, 21745 N. Dixie Highway\, Bowling Green\, OH\, 43402\, United States
CATEGORIES:Community
END:VEVENT
BEGIN:VEVENT
DTSTART;TZID=America/Detroit:20290521T190000
DTEND;TZID=America/Detroit:20290521T190000
DTSTAMP:20260423T170107
CREATED:20210622T163229Z
LAST-MODIFIED:20210622T164107Z
UID:10000382-1874084400-1874084400@www.middletontownship.com
SUMMARY:Fire Dept. Meeting
DESCRIPTION:
URL:https://www.middletontownship.com/event/fire-dept-meeting/2029-05-21/
LOCATION:Middleton Township Building\, 21745 N. Dixie Highway\, Bowling Green\, OH\, 43402\, United States
CATEGORIES:Community
END:VEVENT
BEGIN:VEVENT
DTSTART;TZID=America/Detroit:20290618T190000
DTEND;TZID=America/Detroit:20290618T190000
DTSTAMP:20260423T170107
CREATED:20210622T163229Z
LAST-MODIFIED:20210622T164107Z
UID:10000383-1876503600-1876503600@www.middletontownship.com
SUMMARY:Fire Dept. Meeting
DESCRIPTION:
URL:https://www.middletontownship.com/event/fire-dept-meeting/2029-06-18/
LOCATION:Middleton Township Building\, 21745 N. Dixie Highway\, Bowling Green\, OH\, 43402\, United States
CATEGORIES:Community
END:VEVENT
BEGIN:VEVENT
DTSTART;TZID=America/Detroit:20290716T190000
DTEND;TZID=America/Detroit:20290716T190000
DTSTAMP:20260423T170107
CREATED:20210622T163229Z
LAST-MODIFIED:20210622T164107Z
UID:10000392-1878922800-1878922800@www.middletontownship.com
SUMMARY:Fire Dept. Meeting
DESCRIPTION:
URL:https://www.middletontownship.com/event/fire-dept-meeting/2029-07-16/
LOCATION:Middleton Township Building\, 21745 N. Dixie Highway\, Bowling Green\, OH\, 43402\, United States
CATEGORIES:Community
END:VEVENT
BEGIN:VEVENT
DTSTART;TZID=America/Detroit:20290820T190000
DTEND;TZID=America/Detroit:20290820T190000
DTSTAMP:20260423T170107
CREATED:20210622T163229Z
LAST-MODIFIED:20210622T164107Z
UID:10000400-1881946800-1881946800@www.middletontownship.com
SUMMARY:Fire Dept. Meeting
DESCRIPTION:
URL:https://www.middletontownship.com/event/fire-dept-meeting/2029-08-20/
LOCATION:Middleton Township Building\, 21745 N. Dixie Highway\, Bowling Green\, OH\, 43402\, United States
CATEGORIES:Community
END:VEVENT
BEGIN:VEVENT
DTSTART;TZID=America/Detroit:20290917T190000
DTEND;TZID=America/Detroit:20290917T190000
DTSTAMP:20260423T170108
CREATED:20210622T163229Z
LAST-MODIFIED:20210622T164107Z
UID:10000401-1884366000-1884366000@www.middletontownship.com
SUMMARY:Fire Dept. Meeting
DESCRIPTION:
URL:https://www.middletontownship.com/event/fire-dept-meeting/2029-09-17/
LOCATION:Middleton Township Building\, 21745 N. Dixie Highway\, Bowling Green\, OH\, 43402\, United States
CATEGORIES:Community
END:VEVENT
BEGIN:VEVENT
DTSTART;TZID=America/Detroit:20291015T190000
DTEND;TZID=America/Detroit:20291015T190000
DTSTAMP:20260423T170108
CREATED:20210622T163229Z
LAST-MODIFIED:20210622T164107Z
UID:10000466-1886785200-1886785200@www.middletontownship.com
SUMMARY:Fire Dept. Meeting
DESCRIPTION:
URL:https://www.middletontownship.com/event/fire-dept-meeting/2029-10-15/
LOCATION:Middleton Township Building\, 21745 N. Dixie Highway\, Bowling Green\, OH\, 43402\, United States
CATEGORIES:Community
END:VEVENT
BEGIN:VEVENT
DTSTART;TZID=America/Detroit:20291119T190000
DTEND;TZID=America/Detroit:20291119T190000
DTSTAMP:20260423T170108
CREATED:20210622T163229Z
LAST-MODIFIED:20210622T164107Z
UID:10000474-1889809200-1889809200@www.middletontownship.com
SUMMARY:Fire Dept. Meeting
DESCRIPTION:
URL:https://www.middletontownship.com/event/fire-dept-meeting/2029-11-19/
LOCATION:Middleton Township Building\, 21745 N. Dixie Highway\, Bowling Green\, OH\, 43402\, United States
CATEGORIES:Community
END:VEVENT
BEGIN:VEVENT
DTSTART;TZID=America/Detroit:20291217T190000
DTEND;TZID=America/Detroit:20291217T190000
DTSTAMP:20260423T170108
CREATED:20210622T163229Z
LAST-MODIFIED:20210622T164107Z
UID:10000477-1892228400-1892228400@www.middletontownship.com
SUMMARY:Fire Dept. Meeting
DESCRIPTION:
URL:https://www.middletontownship.com/event/fire-dept-meeting/2029-12-17/
LOCATION:Middleton Township Building\, 21745 N. Dixie Highway\, Bowling Green\, OH\, 43402\, United States
CATEGORIES:Community
END:VEVENT
BEGIN:VEVENT
DTSTART;TZID=America/Detroit:20300121T190000
DTEND;TZID=America/Detroit:20300121T190000
DTSTAMP:20260423T170108
CREATED:20210622T163229Z
LAST-MODIFIED:20210622T164107Z
UID:10000485-1895252400-1895252400@www.middletontownship.com
SUMMARY:Fire Dept. Meeting
DESCRIPTION:
URL:https://www.middletontownship.com/event/fire-dept-meeting/2030-01-21/
LOCATION:Middleton Township Building\, 21745 N. Dixie Highway\, Bowling Green\, OH\, 43402\, United States
CATEGORIES:Community
END:VEVENT
BEGIN:VEVENT
DTSTART;TZID=America/Detroit:20300218T190000
DTEND;TZID=America/Detroit:20300218T190000
DTSTAMP:20260423T170108
CREATED:20210622T163229Z
LAST-MODIFIED:20210622T164107Z
UID:10000486-1897671600-1897671600@www.middletontownship.com
SUMMARY:Fire Dept. Meeting
DESCRIPTION:
URL:https://www.middletontownship.com/event/fire-dept-meeting/2030-02-18/
LOCATION:Middleton Township Building\, 21745 N. Dixie Highway\, Bowling Green\, OH\, 43402\, United States
CATEGORIES:Community
END:VEVENT
BEGIN:VEVENT
DTSTART;TZID=America/Detroit:20300318T190000
DTEND;TZID=America/Detroit:20300318T190000
DTSTAMP:20260423T170108
CREATED:20210622T163229Z
LAST-MODIFIED:20210622T164107Z
UID:10000491-1900090800-1900090800@www.middletontownship.com
SUMMARY:Fire Dept. Meeting
DESCRIPTION:
URL:https://www.middletontownship.com/event/fire-dept-meeting/2030-03-18/
LOCATION:Middleton Township Building\, 21745 N. Dixie Highway\, Bowling Green\, OH\, 43402\, United States
CATEGORIES:Community
END:VEVENT
BEGIN:VEVENT
DTSTART;TZID=America/Detroit:20300415T190000
DTEND;TZID=America/Detroit:20300415T190000
DTSTAMP:20260423T170108
CREATED:20210622T163229Z
LAST-MODIFIED:20210622T164107Z
UID:10000498-1902510000-1902510000@www.middletontownship.com
SUMMARY:Fire Dept. Meeting
DESCRIPTION:
URL:https://www.middletontownship.com/event/fire-dept-meeting/2030-04-15/
LOCATION:Middleton Township Building\, 21745 N. Dixie Highway\, Bowling Green\, OH\, 43402\, United States
CATEGORIES:Community
END:VEVENT
BEGIN:VEVENT
DTSTART;TZID=America/Detroit:20300520T190000
DTEND;TZID=America/Detroit:20300520T190000
DTSTAMP:20260423T170108
CREATED:20210622T163229Z
LAST-MODIFIED:20210622T164107Z
UID:10000505-1905534000-1905534000@www.middletontownship.com
SUMMARY:Fire Dept. Meeting
DESCRIPTION:
URL:https://www.middletontownship.com/event/fire-dept-meeting/2030-05-20/
LOCATION:Middleton Township Building\, 21745 N. Dixie Highway\, Bowling Green\, OH\, 43402\, United States
CATEGORIES:Community
END:VEVENT
BEGIN:VEVENT
DTSTART;TZID=America/Detroit:20300617T190000
DTEND;TZID=America/Detroit:20300617T190000
DTSTAMP:20260423T170108
CREATED:20210622T163229Z
LAST-MODIFIED:20210622T164107Z
UID:10000510-1907953200-1907953200@www.middletontownship.com
SUMMARY:Fire Dept. Meeting
DESCRIPTION:
URL:https://www.middletontownship.com/event/fire-dept-meeting/2030-06-17/
LOCATION:Middleton Township Building\, 21745 N. Dixie Highway\, Bowling Green\, OH\, 43402\, United States
CATEGORIES:Community
END:VEVENT
END:VCALENDAR